BEGIN:VCALENDAR
VERSION:2.0
PRODID:-//Cigar Rights - ECPv6.6.4.2//NONSGML v1.0//EN
CALSCALE:GREGORIAN
METHOD:PUBLISH
X-WR-CALNAME:Cigar Rights
X-ORIGINAL-URL:https://cigarrights.org
X-WR-CALDESC:Events for Cigar Rights
REFRESH-INTERVAL;VALUE=DURATION:PT1H
X-Robots-Tag:noindex
X-PUBLISHED-TTL:PT1H
BEGIN:VTIMEZONE
TZID:America/New_York
BEGIN:DAYLIGHT
TZOFFSETFROM:-0500
TZOFFSETTO:-0400
TZNAME:EDT
DTSTART:20260308T070000
END:DAYLIGHT
BEGIN:STANDARD
TZOFFSETFROM:-0400
TZOFFSETTO:-0500
TZNAME:EST
DTSTART:20261101T060000
END:STANDARD
END:VTIMEZONE
BEGIN:VEVENT
DTSTART;TZID=America/New_York:20260424T170000
DTEND;TZID=America/New_York:20260424T220000
DTSTAMP:20260423T044618
CREATED:20260323T134014Z
LAST-MODIFIED:20260323T134058Z
UID:4546-1777050000-1777068000@cigarrights.org
SUMMARY:BLTC/BLKWKS
DESCRIPTION:
URL:https://cigarrights.org/event/bltc-blkwks/
LOCATION:Mane Street Cigars\, 53-3 Main Street\, Woodbridge\, NJ\, 07095\, United States
END:VEVENT
END:VCALENDAR